BEGIN:VCALENDAR
VERSION:2.0
PRODID:-//wp-events-plugin.com//7.2.3.1//EN
TZID:Europe/Berlin
X-WR-TIMEZONE:Europe/Berlin
BEGIN:VEVENT
UID:5@cantoamore.de
DTSTART;TZID=Europe/Berlin:20230324T200000
DTEND;TZID=Europe/Berlin:20230324T220000
DTSTAMP:20230325T083052Z
URL:https://cantoamore.de/buchungen/events/konzerte-beziehungs-traeume-202
 3-03-24/
SUMMARY:Konzert Beziehungs-TRÄUME
DESCRIPTION:„Der schönste Monat für das Herz ist und bleibt der Monat M
 ärz!“ Der Monat\, in dem blühende Osterglocken den Frühling einläute
 n. Der einst im alten Rom den Beinamen „Felix –  der Glückliche“ e
 rhielt. Dieser Monat eignet sich wie kein anderer dazu\, von glücklichen 
 Beziehungen zu träumen bei einem Konzert von cantoAmore...\n\nHier könne
 n Sie Karten für das Konzert buchen. Der Einlass ist jeweils 30 Minuten v
 or Veranstaltungsbeginn..
ATTACH;FMTTYPE=image/jpeg:https://cantoamore.de/wp-content/uploads/2023/01
 /cantoAmore-Konzert-2023-Flyer-Plakat_small-1.jpg
CATEGORIES:Abendfüllendes Konzert
LOCATION:Zinkhütter Hof\, Cockerillstraße 90\, 52222 Stolberg\, Deutschla
 nd
X-APPLE-STRUCTURED-LOCATION;VALUE=URI;X-ADDRESS=Cockerillstraße 90\, 52222
  Stolberg\, Deutschland;X-APPLE-RADIUS=100;X-TITLE=Zinkhütter Hof:geo:0,0
END:VEVENT
BEGIN:VEVENT
UID:6@cantoamore.de
DTSTART;TZID=Europe/Berlin:20230325T200000
DTEND;TZID=Europe/Berlin:20230325T220000
DTSTAMP:20230325T140414Z
URL:https://cantoamore.de/buchungen/events/konzerte-beziehungs-traeume-202
 3-03-25/
SUMMARY:Konzert Beziehungs-TRÄUME
DESCRIPTION:„Der schönste Monat für das Herz ist und bleibt der Monat M
 ärz!“ Der Monat\, in dem blühende Osterglocken den Frühling einläute
 n. Der einst im alten Rom den Beinamen „Felix –  der Glückliche“ e
 rhielt. Dieser Monat eignet sich wie kein anderer dazu\, von glücklichen 
 Beziehungen zu träumen bei einem Konzert von cantoAmore...\n\nHier könne
 n Sie Karten für das Konzert buchen. Der Einlass ist jeweils 30 Minuten v
 or Veranstaltungsbeginn..
ATTACH;FMTTYPE=image/jpeg:https://cantoamore.de/wp-content/uploads/2023/01
 /cantoAmore-Konzert-2023-Flyer-Plakat_small-1.jpg
CATEGORIES:Abendfüllendes Konzert
LOCATION:Zinkhütter Hof\, Cockerillstraße 90\, 52222 Stolberg\, Deutschla
 nd
X-APPLE-STRUCTURED-LOCATION;VALUE=URI;X-ADDRESS=Cockerillstraße 90\, 52222
  Stolberg\, Deutschland;X-APPLE-RADIUS=100;X-TITLE=Zinkhütter Hof:geo:0,0
END:VEVENT
BEGIN:VEVENT
UID:8@cantoamore.de
DTSTART;TZID=Europe/Berlin:20231020T200000
DTEND;TZID=Europe/Berlin:20231020T220000
DTSTAMP:20231018T055329Z
URL:https://cantoamore.de/buchungen/events/jubilaeumskonzert-20-jahre-cant
 oamore-2023-10-20/
SUMMARY:20 Jahre cantoAmore - Lieblingsstücke
DESCRIPTION:In diesem Jahr feiern wir unser 20-jähriges Jubiläum! 20 Jahr
 e cantoAmore – das klingt nicht nur nach verwegenene Harmonien und Gäns
 ehautmomenten\, sondern auch nach einer Menge Spaß! Aus diesem Anlass hab
 en wir unsere persönlichen Lieblingsstücke aus den vergangenen 20 Jahren
  zusammengestellt und möchten Euch diese zusammen mit ein paar spritzigen
  Überraschungen präsentieren! 20 Jahre "Gesang und mehr"!\n\nKarten für
  das Konzert könnt Ihr hier buchen. Der Einlass ist jeweils 30 Minuten vo
 r Veranstaltungsbeginn..
ATTACH;FMTTYPE=image/jpeg:https://cantoamore.de/wp-content/uploads/2023/08
 /20Jahre-CantoAmore_Flyer_mittel.jpg
CATEGORIES:Abendfüllendes Konzert
LOCATION:Altes Kurhaus Aachen: Ballsaal\, Komphausbadstr. 19\, 52062 Aachen
 \, Nordrhein-Westfalen\, 52062\, Deutschland
X-APPLE-STRUCTURED-LOCATION;VALUE=URI;X-ADDRESS=Komphausbadstr. 19\, 52062 
 Aachen\, Nordrhein-Westfalen\, 52062\, Deutschland;X-APPLE-RADIUS=100;X-TI
 TLE=Altes Kurhaus Aachen: Ballsaal:geo:0,0
END:VEVENT
BEGIN:VEVENT
UID:9@cantoamore.de
DTSTART;TZID=Europe/Berlin:20231021T200000
DTEND;TZID=Europe/Berlin:20231021T220000
DTSTAMP:20231018T055437Z
URL:https://cantoamore.de/buchungen/events/jubilaeumskonzert-20-jahre-cant
 oamore-2023-10-21/
SUMMARY:20 Jahre cantoAmore - Lieblingsstücke
DESCRIPTION:In diesem Jahr feiern wir unser 20-jähriges Jubiläum! 20 Jahr
 e cantoAmore – das klingt nicht nur nach verwegenene Harmonien und Gäns
 ehautmomenten\, sondern auch nach einer Menge Spaß! Aus diesem Anlass hab
 en wir unsere persönlichen Lieblingsstücke aus den vergangenen 20 Jahren
  zusammengestellt und möchten Euch diese zusammen mit ein paar spritzigen
  Überraschungen präsentieren! 20 Jahre "Gesang und mehr"!\n\nKarten für
  das Konzert könnt Ihr hier buchen. Der Einlass ist jeweils 30 Minuten vo
 r Veranstaltungsbeginn..
ATTACH;FMTTYPE=image/jpeg:https://cantoamore.de/wp-content/uploads/2023/08
 /20Jahre-CantoAmore_Flyer_mittel.jpg
CATEGORIES:Abendfüllendes Konzert
LOCATION:Altes Kurhaus Aachen: Ballsaal\, Komphausbadstr. 19\, 52062 Aachen
 \, Nordrhein-Westfalen\, 52062\, Deutschland
X-APPLE-STRUCTURED-LOCATION;VALUE=URI;X-ADDRESS=Komphausbadstr. 19\, 52062 
 Aachen\, Nordrhein-Westfalen\, 52062\, Deutschland;X-APPLE-RADIUS=100;X-TI
 TLE=Altes Kurhaus Aachen: Ballsaal:geo:0,0
END:VEVENT
BEGIN:VEVENT
UID:10@cantoamore.de
DTSTART;TZID=Europe/Berlin:20241213T200000
DTEND;TZID=Europe/Berlin:20241213T220000
DTSTAMP:20241010T072115Z
URL:https://cantoamore.de/buchungen/events/von-gloeckchen-bis-gaensehaut/
SUMMARY:Von Glöckchen bis Gänsehaut
DESCRIPTION:Das etwas andere Weihnachtskonzert mit cantoAmore\n\nFreitag 1
 3.12.2024\, 20:00 Uhr. Einlass 19:30 Uhr.\n\nBei uns wird’s nicht nur be
 sinnlich\, sondern auch richtig beschwingt! Wir laden Euch herzlich ein zu
  einem Weihnachtskonzert\, das Ihr so schnell nicht vergessen werdet. Buch
 ungen könnt Ihr in diesem Formular vornehmen.\n\n&nbsp\;
ATTACH;FMTTYPE=image/jpeg:https://cantoamore.de/wp-content/uploads/2024/10
 /Weihnachten24-CantoAmore-Flyer.jpg
CATEGORIES:Abendfüllendes Konzert,Weihnachtskonzert
LOCATION:Freie evangelische Gemeinde\, Roermonder Straße 110\, 52072 Aache
 n\, Nordrhein-Westfalen\, Deutschland
X-APPLE-STRUCTURED-LOCATION;VALUE=URI;X-ADDRESS=Roermonder Straße 110\, 52
 072 Aachen\, Nordrhein-Westfalen\, Deutschland;X-APPLE-RADIUS=100;X-TITLE=
 Freie evangelische Gemeinde:geo:0,0
END:VEVENT
BEGIN:VEVENT
UID:12@cantoamore.de
DTSTART;TZID=Europe/Berlin:20251107T200000
DTEND;TZID=Europe/Berlin:20251107T220000
DTSTAMP:20250829T204140Z
URL:https://cantoamore.de/buchungen/events/klamottenkiste-2025-11-07/
SUMMARY:Konzert Klamottenkiste
DESCRIPTION:Willkommen in unserer außergewöhnlich-musikalischen Modewelt\
 , in der Töne\nzu Stoffen und Stimmen zu Farben werden. In dieser Klamott
 enKISTE finden Sie\nkeine Hemden oder Hosen\, sondern feinste Klangstoffe\
 , maßgeschneidert aus\nJazz\, Pop und bunter Überraschung.
ATTACH;FMTTYPE=image/jpeg:https://cantoamore.de/wp-content/uploads/2025/08
 /2025_Klamottenkiste.png
CATEGORIES:Abendfüllendes Konzert
LOCATION:Zinkhütter Hof\, Cockerillstraße 90\, 52222 Stolberg\, Deutschla
 nd
X-APPLE-STRUCTURED-LOCATION;VALUE=URI;X-ADDRESS=Cockerillstraße 90\, 52222
  Stolberg\, Deutschland;X-APPLE-RADIUS=100;X-TITLE=Zinkhütter Hof:geo:0,0
END:VEVENT
BEGIN:VEVENT
UID:13@cantoamore.de
DTSTART;TZID=Europe/Berlin:20251108T200000
DTEND;TZID=Europe/Berlin:20251108T220000
DTSTAMP:20250829T204140Z
URL:https://cantoamore.de/buchungen/events/klamottenkiste-2025-11-08/
SUMMARY:Konzert Klamottenkiste
DESCRIPTION:Willkommen in unserer außergewöhnlich-musikalischen Modewelt\
 , in der Töne\nzu Stoffen und Stimmen zu Farben werden. In dieser Klamott
 enKISTE finden Sie\nkeine Hemden oder Hosen\, sondern feinste Klangstoffe\
 , maßgeschneidert aus\nJazz\, Pop und bunter Überraschung.
ATTACH;FMTTYPE=image/jpeg:https://cantoamore.de/wp-content/uploads/2025/08
 /2025_Klamottenkiste.png
CATEGORIES:Abendfüllendes Konzert
LOCATION:Zinkhütter Hof\, Cockerillstraße 90\, 52222 Stolberg\, Deutschla
 nd
X-APPLE-STRUCTURED-LOCATION;VALUE=URI;X-ADDRESS=Cockerillstraße 90\, 52222
  Stolberg\, Deutschland;X-APPLE-RADIUS=100;X-TITLE=Zinkhütter Hof:geo:0,0
END:VEVENT
BEGIN:VTIMEZONE
TZID:Europe/Berlin
X-LIC-LOCATION:Europe/Berlin
BEGIN:STANDARD
DTSTART:20221030T020000
TZOFFSETFROM:+0200
TZOFFSETTO:+0100
TZNAME:CET
END:STANDARD
BEGIN:DAYLIGHT
DTSTART:20230326T030000
TZOFFSETFROM:+0100
TZOFFSETTO:+0200
TZNAME:CEST
END:DAYLIGHT
BEGIN:STANDARD
DTSTART:20231029T020000
TZOFFSETFROM:+0200
TZOFFSETTO:+0100
TZNAME:CET
END:STANDARD
BEGIN:DAYLIGHT
DTSTART:20240331T030000
TZOFFSETFROM:+0100
TZOFFSETTO:+0200
TZNAME:CEST
END:DAYLIGHT
BEGIN:STANDARD
DTSTART:20241027T020000
TZOFFSETFROM:+0200
TZOFFSETTO:+0100
TZNAME:CET
END:STANDARD
BEGIN:DAYLIGHT
DTSTART:20250330T030000
TZOFFSETFROM:+0100
TZOFFSETTO:+0200
TZNAME:CEST
END:DAYLIGHT
BEGIN:STANDARD
DTSTART:20251026T020000
TZOFFSETFROM:+0200
TZOFFSETTO:+0100
TZNAME:CET
END:STANDARD
END:VTIMEZONE
END:VCALENDAR